BEGIN:VCALENDAR
VERSION:2.0
PRODID:-//Squarespace Inc/Squarespace 6//v6//EN
BEGIN:VEVENT
UID:5ceda4e3085229ed2f61341d@squarespace.com
DTSTAMP:20190528T213230Z
DTSTART:20190604T163000Z
DTEND:20190604T180000Z
SUMMARY:Audition classes de piano
GEO:49.555871;5.875835
LOCATION:Maison de la Culture "A Rousen"\, Place du Marché\, Pétange\, Luxe
 mbourg
END:VEVENT
END:VCALENDAR
