BEGIN:VCALENDAR
VERSION:2.0
PRODID:-//Squarespace Inc/Squarespace 6//v6//EN
BEGIN:VEVENT
UID:5c3276110e2e72045fb24cb5@squarespace.com
DTSTAMP:20190106T214419Z
DTSTART:20181129T180000Z
DTEND:20181129T190000Z
SUMMARY:Remise des diplômes
GEO:49.558055;5.875459
LOCATION:École de Musique\, 1 Rue des Écoles\, Pétange\, District de Luxemb
 ourg\, 4731\, Luxembourg
END:VEVENT
END:VCALENDAR
