BEGIN:VCALENDAR
VERSION:2.0
PRODID:-//Squarespace Inc/Squarespace 6//v6//EN
BEGIN:VEVENT
UID:5ddd62b55e1d641741dff397@squarespace.com
DTSTAMP:20200208T082414Z
DTSTART:20200321T140000Z
DTEND:20200321T150000Z
SUMMARY:Audition mixte - Gourmandises musicales
GEO:49.558052;5.875461
LOCATION:Péitenger Museksschoul\, 1\, rue des Ecoles\, L-4731 Pétange\, Lux
 embourg
END:VEVENT
END:VCALENDAR
