BEGIN:VCALENDAR
VERSION:2.0
PRODID:-//Squarespace Inc/Squarespace 6//v6//EN
BEGIN:VEVENT
UID:5ddd63055e1d641741e003df@squarespace.com
DTSTAMP:20191126T173914Z
DTSTART:20200516T130000Z
DTEND:20200516T140000Z
SUMMARY:Audition mixte - Gourmandises musicales
GEO:49.558052;5.875461
LOCATION:Péitenger Museksschoul\, 1\, rue des Ecoles\, L-4731 Pétange\, Lux
 embourg
END:VEVENT
END:VCALENDAR
