BEGIN:VCALENDAR
VERSION:2.0
PRODID:-//Squarespace Inc/Squarespace 6//v6//EN
BEGIN:VEVENT
UID:5e622abb79ab0c07f72d5347@squarespace.com
DTSTAMP:20200306T105203Z
DTSTART:20200314T180000Z
DTEND:20200314T200000Z
SUMMARY:Concert commun Zottegem - Differdange - Pétange
GEO:50.870013;3.80841
LOCATION:Congregatioekapel\, 30 Kasteelstraat\, Zottegem\, Vlaanderen\, 962
 0\, Belgique
END:VEVENT
END:VCALENDAR
