BEGIN:VCALENDAR
VERSION:2.0
PRODID:-//Squarespace Inc/Squarespace 6//v6//EN
BEGIN:VEVENT
UID:5e692f3efe89ff0b627c5270@squarespace.com
DTSTAMP:20200311T183921Z
DTSTART:20200324T170000Z
DTEND:20200324T183000Z
SUMMARY:Audition classe de guitare
GEO:49.555835;5.876583
LOCATION:Maison de la Culture "A Rousen"\, Place du Marché\, Pétange\, Luxe
 mbourg
END:VEVENT
END:VCALENDAR
