BEGIN:VCALENDAR
VERSION:2.0
PRODID:-//Squarespace Inc/Squarespace 6//v6//EN
BEGIN:VEVENT
UID:5e5e149d2a325e1d702965ec@squarespace.com
DTSTAMP:20200311T184003Z
DTSTART:20200515T160000Z
DTEND:20200515T173000Z
SUMMARY:Audition classe de violon
GEO:49.555835;5.876583
LOCATION:Maison de la Culture "A Rousen"\, Place du Marché\, Pétange\, Luxe
 mbourg
END:VEVENT
END:VCALENDAR
