BEGIN:VCALENDAR
VERSION:2.0
PRODID:-//Squarespace Inc/Squarespace 6//v6//EN
BEGIN:VEVENT
UID:5dc57476e3c33a4d9dd90ba0@squarespace.com
DTSTAMP:20191108T140456Z
DTSTART:20200613T080000Z
DTEND:20200613T130000Z
SUMMARY:Journée Portes Ouvertes
GEO:49.558052;5.875461
LOCATION:Péitenger Museksschoul\, 1\, rue des Ecoles\, L-4731 Pétange\, Lux
 embourg
END:VEVENT
END:VCALENDAR
