BEGIN:VCALENDAR
VERSION:2.0
PRODID:-//Squarespace Inc/Squarespace 6//v6//EN
BEGIN:VEVENT
UID:5c8bef7ee4966bccb1152b1b@squarespace.com
DTSTAMP:20190528T211515Z
DTSTART:20190517T150000Z
DTEND:20190517T163000Z
SUMMARY:Audition classes de violon
GEO:49.555871;5.875835
LOCATION:Maison de la Culture "A Rousen"\, Place du Marché\, Pétange\, Luxe
 mbourg
END:VEVENT
END:VCALENDAR
