BEGIN:VCALENDAR
VERSION:2.0
PRODID:-//Squarespace Inc/Squarespace 6//v6//EN
BEGIN:VEVENT
UID:5c32741e898583102b749d68@squarespace.com
DTSTAMP:20190106T213358Z
DTSTART:20190518T130000Z
DTEND:20190518T150000Z
SUMMARY:Gourmandises musicales
GEO:49.558066;5.875469
LOCATION:Ecole de Musique\, 1 Rue des Écoles\, Pétange\, District de Luxemb
 ourg\, 4731\, Luxembourg
END:VEVENT
END:VCALENDAR
