BEGIN:VCALENDAR
VERSION:2.0
PRODID:-//Squarespace Inc/Squarespace 6//v6//EN
BEGIN:VEVENT
UID:5c3273f86d2a7305971a5c2b@squarespace.com
DTSTAMP:20190106T213310Z
DTSTART:20190316T140000Z
DTEND:20190316T160000Z
SUMMARY:Gourmandises musicales
GEO:49.558066;5.875469
LOCATION:Ecole de Musique\, 1 Rue des Écoles\, Pétange\, District de Luxemb
 ourg\, 4731\, Luxembourg
END:VEVENT
END:VCALENDAR
