BEGIN:VCALENDAR
VERSION:2.0
PRODID:-//Squarespace Inc/Squarespace 6//v6//EN
BEGIN:VEVENT
UID:5c327229898583102b747fd2@squarespace.com
DTSTAMP:20190106T213240Z
DTSTART:20190119T140000Z
DTEND:20190119T160000Z
SUMMARY:Gourmandises musicales
GEO:49.558066;5.875469
LOCATION:Ecole de Musique\, 1 Rue des Écoles\, Pétange\, District de Luxemb
 ourg\, 4731\, Luxembourg
END:VEVENT
END:VCALENDAR
