BEGIN:VCALENDAR
VERSION:2.0
PRODID:-//Squarespace Inc/Squarespace 6//v6//EN
BEGIN:VEVENT
UID:5c326a8db8a0455ef9cfcb94@squarespace.com
DTSTAMP:20190106T213214Z
DTSTART:20190117T150000Z
DTEND:20190117T160000Z
SUMMARY:Audition classes de violon
GEO:49.558066;5.875469
LOCATION:Ecole de Musique\, 1 Rue des Écoles\, Pétange\, District de Luxemb
 ourg\, 4731\, Luxembourg
END:VEVENT
END:VCALENDAR
