BEGIN:VCALENDAR
VERSION:2.0
PRODID:-//Squarespace Inc/Squarespace 6//v6//EN
BEGIN:VEVENT
UID:5ceda600ec212dac85903c63@squarespace.com
DTSTAMP:20190528T212514Z
DTSTART:20190627T160000Z
DTEND:20190627T173000Z
SUMMARY:Audition classes de mandoline
GEO:49.555871;5.875835
LOCATION:Maison de la Culture "A Rousen"\, Luxembourg
END:VEVENT
END:VCALENDAR
