BEGIN:VCALENDAR
VERSION:2.0
PRODID:-//Squarespace Inc/Squarespace 6//v6//EN
BEGIN:VEVENT
UID:5c3272ad758d4678747fdbad@squarespace.com
DTSTAMP:20190106T213429Z
DTSTART:20190302T173000Z
DTEND:20190302T183000Z
SUMMARY:Audition classes de harpe
GEO:49.555871;5.875835
LOCATION:Maison de la Culture "A Rousen"\, Luxembourg
END:VEVENT
END:VCALENDAR
