BEGIN:VCALENDAR
VERSION:2.0
PRODID:-//Squarespace Inc/Squarespace 6//v6//EN
BEGIN:VEVENT
UID:5c326a2b70a6adec3edb50f7@squarespace.com
DTSTAMP:20190106T205213Z
DTSTART:20181218T173000Z
DTEND:20181218T183000Z
SUMMARY:Audition classes de piano
GEO:49.555871;5.875835
LOCATION:Maison de la Culture "A Rousen"\, Luxembourg
END:VEVENT
END:VCALENDAR
