BEGIN:VCALENDAR
VERSION:2.0
PRODID:-//Squarespace Inc/Squarespace 6//v6//EN
BEGIN:VEVENT
UID:5c3268171ae6cfe5e9e2f966@squarespace.com
DTSTAMP:20190106T205051Z
DTSTART:20181215T123000Z
DTEND:20181215T133000Z
SUMMARY:Audition classes de piano
GEO:49.54604;5.85659
LOCATION:Eglise de Lamadelaine\, Lamadelaine\, Luxembourg
END:VEVENT
END:VCALENDAR
