BEGIN:VCALENDAR
VERSION:2.0
PRODID:-//Squarespace Inc/Squarespace 6//v6//EN
BEGIN:VEVENT
UID:5c32676d21c67cd2741069d4@squarespace.com
DTSTAMP:20190106T204159Z
DTSTART:20181211T173000Z
DTEND:20181211T183000Z
SUMMARY:Audition de Noël
GEO:49.558052;5.875461
LOCATION:Ecole de Music Pétange
END:VEVENT
END:VCALENDAR
