BEGIN:VCALENDAR
VERSION:2.0
PRODID:-//Squarespace Inc/Squarespace 6//v6//EN
BEGIN:VEVENT
UID:5c3276d4c2241ba8a711746b@squarespace.com
DTSTAMP:20190106T214845Z
DTSTART:20190331T120000Z
DTEND:20190331T130000Z
SUMMARY:Jugendmuseksdag
GEO:49.57721;5.910623
LOCATION:Centre Polyvalent\, 40 Rue de Bascharage\, Käerjeng\, District de 
 Luxembourg\, 4910\, Luxembourg
END:VEVENT
END:VCALENDAR
